0.6773504679
0.0000000000
0.0000000000
-0.6773504679
628744.9407354004
5106545.7382725161
