0.6773504679
0.0000000000
0.0000000000
-0.6773504679
634941.6292391397
5117802.3715751851
