0.6773504679
0.0000000000
0.0000000000
-0.6773504679
615966.8340212649
5100719.6733101392
