0.6773504679
0.0000000000
0.0000000000
-0.6773504679
615862.2676666448
5106275.5737824636
