0.6773504679
0.0000000000
0.0000000000
-0.6773504679
718325.6417967107
5125859.4024025695
