0.6773504679
0.0000000000
0.0000000000
-0.6773504679
718127.3997680891
5131415.4809987927
