0.6773504679
0.0000000000
0.0000000000
-0.6773504679
692104.8868498451
5141635.4596951343
