0.6773504679
0.0000000000
0.0000000000
-0.6773504679
666785.3445378912
5129740.8322474407
