0.6773504679
0.0000000000
0.0000000000
-0.6773504679
653949.6699606058
5129388.4915034994
