0.6773504679
0.0000000000
0.0000000000
-0.6773504679
666633.1016780493
5135295.5557625545
