0.6773504679
0.0000000000
0.0000000000
-0.6773504679
666481.5361686749
5140851.6339786015
