0.6773504679
0.0000000000
0.0000000000
-0.6773504679
653668.6838203209
5140500.2930224556
