0.6773504679
0.0000000000
0.0000000000
-0.6773504679
634573.5764280091
5134469.0734470226
