0.6773504679
0.0000000000
0.0000000000
-0.6773504679
640857.0090277536
5140176.8062924314
