0.6773504679
0.0000000000
0.0000000000
-0.6773504679
615442.4701796358
5128498.1757060038
