0.6773504679
0.0000000000
0.0000000000
-0.6773504679
615337.2264745474
5134054.0761823738
