0.6773504679
0.0000000000
0.0000000000
-0.6773504679
704729.9976390813
5147622.8456213316
