0.6773504679
0.0000000000
0.0000000000
-0.6773504679
710936.4322328336
5153404.5777523983
