0.6773504679
0.0000000000
0.0000000000
-0.6773504679
659928.6170064868
5146228.7030470176
