0.6773504679
0.0000000000
0.0000000000
-0.6773504679
662111.7296245206
5062896.0135317277
