0.6773504679
0.0000000000
0.0000000000
-0.6773504679
642521.1397980767
5067955.0975988172
