0.6773504679
0.0000000000
0.0000000000
-0.6773504679
616490.0526211379
5072941.9935569223
