0.25000000000000
0.00000000000000
0.00000000000000
-0.25000000000000
662111.90500000003000
5062897.06500000040000
