0.25000000000000
0.00000000000000
0.00000000000000
-0.25000000000000
668449.10499999998000
5068631.41500000000000
