0.25000000000000
0.00000000000000
0.00000000000000
-0.25000000000000
680600.30500000005000
5096785.00499999990000
