0.25000000000000
0.00000000000000
0.00000000000000
-0.25000000000000
699597.52499999991000
5108514.59499999880000
