2.5e-001
0.0000000000000000e+000
0.0000000000000000e+000
-2.5e-001
6.8011096501078724e+005
5.1134512910100305e+006
