0.25000000000000
0.00000000000000
0.00000000000000
-0.25000000000000
699236.09500000009000
5119625.50499999900000
