2.5e-001
0.0000000000000000e+000
0.0000000000000000e+000
-2.5e-001
6.6724043501042773e+005
5.1130731133510917e+006
