0.25000000000000
0.00000000000000
0.00000000000000
-0.25000000000000
648068.73499999999000
5107000.82500000020000
