0.25000000000000
0.00000000000000
0.00000000000000
-0.25000000000000
647800.61499999999000
5118112.19500000030000
