0.25000000000000
0.00000000000000
0.00000000000000
-0.25000000000000
724749.01500000001000
5126099.54500000090000
