2.5e-001
0.0000000000000000e+000
0.0000000000000000e+000
-2.5e-001
6.8620773500947107e+005
5.1247617610225026e+006
