2.5e-001
0.0000000000000000e+000
0.0000000000000000e+000
-2.5e-001
6.9245606501325953e+005
5.1305236361475224e+006
