2.5e-001
0.0000000000000000e+000
0.0000000000000000e+000
-2.5e-001
6.8586870501290215e+005
5.1358732489807224e+006
