0.25000000000000
0.00000000000000
0.00000000000000
-0.25000000000000
653949.75500000000000
5129388.81500000040000
