2.5e-001
0.0000000000000000e+000
0.0000000000000000e+000
-2.5e-001
7.1111804500831198e+005
5.1478492594514126e+006
