2.5e-001
0.0000000000000000e+000
0.0000000000000000e+000
-2.5e-001
7.1093641500872013e+005
5.1534049883284047e+006
