2.5e-001
0.0000000000000000e+000
0.0000000000000000e+000
-2.5e-001
6.9814788501177449e+005
5.1534894882600270e+006
