0.25000000000000
0.00000000000000
0.00000000000000
-0.25000000000000
642521.50000000000000
5067955.00000000000000
