0.25000000000000
0.00000000000000
0.00000000000000
-0.25000000000000
706411.07499999995000
5097622.76499999970000
