0.25000000000000
0.00000000000000
0.00000000000000
-0.25000000000000
661532.41500000004000
5085117.61500000020000
