0.25000000000000
0.00000000000000
0.00000000000000
-0.25000000000000
655067.97499999998000
5084945.12500000000000
