0.25000000000000
0.00000000000000
0.00000000000000
-0.25000000000000
661241.98499999999000
5096228.09499999970000
