0.25000000000000
0.00000000000000
0.00000000000000
-0.25000000000000
642266.50000000000000
5079065.50000000000000
