0.25000000000000
0.00000000000000
0.00000000000000
-0.25000000000000
648603.52500000002000
5084779.38499999980000
