0.25000000000000
0.00000000000000
0.00000000000000
-0.25000000000000
616176.50000000000000
5089609.00000000000000
