0.25000000000000
0.00000000000000
0.00000000000000
-0.25000000000000
718524.09499999997000
5120304.11500000020000
