0.25000000000000
0.00000000000000
0.00000000000000
-0.25000000000000
705665.45499999996000
5119845.33500000000000
