0.25000000000000
0.00000000000000
0.00000000000000
-0.25000000000000
692981.65500000003000
5113856.90500000030000
